BEGIN:VCALENDAR
VERSION:2.0
PRODID:-//RAF Alconbury - ECPv6.15.20//NONSGML v1.0//EN
CALSCALE:GREGORIAN
METHOD:PUBLISH
X-WR-CALNAME:RAF Alconbury
X-ORIGINAL-URL:https://rafalconbury.com
X-WR-CALDESC:Events for RAF Alconbury
REFRESH-INTERVAL;VALUE=DURATION:PT1H
X-Robots-Tag:noindex
X-PUBLISHED-TTL:PT1H
BEGIN:VTIMEZONE
TZID:Europe/London
BEGIN:DAYLIGHT
TZOFFSETFROM:+0000
TZOFFSETTO:+0100
TZNAME:BST
DTSTART:20250330T010000
END:DAYLIGHT
BEGIN:STANDARD
TZOFFSETFROM:+0100
TZOFFSETTO:+0000
TZNAME:GMT
DTSTART:20251026T010000
END:STANDARD
BEGIN:DAYLIGHT
TZOFFSETFROM:+0000
TZOFFSETTO:+0100
TZNAME:BST
DTSTART:20260329T010000
END:DAYLIGHT
BEGIN:STANDARD
TZOFFSETFROM:+0100
TZOFFSETTO:+0000
TZNAME:GMT
DTSTART:20261025T010000
END:STANDARD
BEGIN:DAYLIGHT
TZOFFSETFROM:+0000
TZOFFSETTO:+0100
TZNAME:BST
DTSTART:20270328T010000
END:DAYLIGHT
BEGIN:STANDARD
TZOFFSETFROM:+0100
TZOFFSETTO:+0000
TZNAME:GMT
DTSTART:20271031T010000
END:STANDARD
END:VTIMEZONE
BEGIN:VEVENT
DTSTART;TZID=Europe/London:20260429T110000
DTEND;TZID=Europe/London:20260429T170000
DTSTAMP:20260421T150812
CREATED:20250905T105416Z
LAST-MODIFIED:20250905T105416Z
UID:10002588-1777460400-1777482000@rafalconbury.com
SUMMARY:Wing Wednesday
DESCRIPTION:Pinspotter Cafe\, and we’re serving up your favorites for just $1 per wing! \nDive into a flavor adventure with options like Plain\, Bourbon\, Sweet Chili\, Buffalo\, Sriracha\, Mango Habanero\, Honey BBQ\, Teriyaki\, and Lemon Pepper. There’s a wing for every craving! \nDon’t miss out on the most delicious deal of the week! Available for dine-in or takeaway. \nCall to pre-order: DSN 268-3682 | COMM 01480 843682
URL:https://rafalconbury.com/event/wing-wednesday/2026-04-29/
LOCATION:Spartan Lanes Bowling Center\, United Kingdom
CATEGORIES:Bowling Center
ATTACH;FMTTYPE=image/jpeg:https://rafalconbury.com/wp-content/uploads/2025/09/Bowling-Wing-Wednesday.jpg
END:VEVENT
BEGIN:VEVENT
DTSTART;TZID=Europe/London:20260429T143000
DTEND;TZID=Europe/London:20260429T170000
DTSTAMP:20260421T150812
CREATED:20250905T082823Z
LAST-MODIFIED:20250905T090425Z
UID:10002517-1777473000-1777482000@rafalconbury.com
SUMMARY:After School Bowling
DESCRIPTION:Come and unwind with some strikes and spares! Get ready to hit the lanes with After School Bowling. This awesome event is available for ages 18 and under\, and it’s perfect for a bit of fun after a long school day.\n\n\n\n\n\n\n\nThe event runs from September to May on weekdays between 1430 – 1700. You can grab games and shoes for just $2 each!
URL:https://rafalconbury.com/event/after-school-bowling/2026-04-29/
LOCATION:Spartan Lanes Bowling Center\, United Kingdom
CATEGORIES:Bowling Center
ATTACH;FMTTYPE=image/png:https://rafalconbury.com/wp-content/uploads/2025/09/Bowling-After-School.png
END:VEVENT
BEGIN:VEVENT
DTSTART;TZID=Europe/London:20260430T143000
DTEND;TZID=Europe/London:20260430T170000
DTSTAMP:20260421T150812
CREATED:20250905T082823Z
LAST-MODIFIED:20250905T090425Z
UID:10002518-1777559400-1777568400@rafalconbury.com
SUMMARY:After School Bowling
DESCRIPTION:Come and unwind with some strikes and spares! Get ready to hit the lanes with After School Bowling. This awesome event is available for ages 18 and under\, and it’s perfect for a bit of fun after a long school day.\n\n\n\n\n\n\n\nThe event runs from September to May on weekdays between 1430 – 1700. You can grab games and shoes for just $2 each!
URL:https://rafalconbury.com/event/after-school-bowling/2026-04-30/
LOCATION:Spartan Lanes Bowling Center\, United Kingdom
CATEGORIES:Bowling Center
ATTACH;FMTTYPE=image/png:https://rafalconbury.com/wp-content/uploads/2025/09/Bowling-After-School.png
END:VEVENT
BEGIN:VEVENT
DTSTART;TZID=Europe/London:20260430T170000
DTEND;TZID=Europe/London:20260430T200000
DTSTAMP:20260421T150812
CREATED:20260310T151218Z
LAST-MODIFIED:20260310T151218Z
UID:10002862-1777568400-1777579200@rafalconbury.com
SUMMARY:Bingo
DESCRIPTION:Get ready—Bingo is back at the Stukeley and it’s better than ever!With bigger cash prizes and a thrilling $825 jackpot\, this is one bingo night you’ll want to be part of! \nCard Sales: 1700–1815Games Begin: 1830Half Pack: $15 | Full Pack: $25 | Jackpot Cards: $2 \nCome early and grab a bite—food will be available for purchase starting at 1600. Fuel up before the fun begins!
URL:https://rafalconbury.com/event/bingo-2/
CATEGORIES:Stukeley Inn
ATTACH;FMTTYPE=image/jpeg:https://rafalconbury.com/wp-content/uploads/2026/03/Stukeley-Bingo-April.jpg
END:VEVENT
BEGIN:VEVENT
DTSTART;TZID=Europe/London:20260501T110000
DTEND;TZID=Europe/London:20260501T180000
DTSTAMP:20260421T150812
CREATED:20250422T142137Z
LAST-MODIFIED:20250422T142137Z
UID:10002326-1777633200-1777658400@rafalconbury.com
SUMMARY:Pizza By The Slice Friday
DESCRIPTION:
URL:https://rafalconbury.com/event/pizza-by-the-slice-friday/2026-05-01/
CATEGORIES:Bowling Center
ATTACH;FMTTYPE=image/jpeg:https://rafalconbury.com/wp-content/uploads/2025/04/Bowling-Pizza-Fridays-scaled.jpg
END:VEVENT
BEGIN:VEVENT
DTSTART;TZID=Europe/London:20260501T143000
DTEND;TZID=Europe/London:20260501T170000
DTSTAMP:20260421T150812
CREATED:20250905T082823Z
LAST-MODIFIED:20250905T090425Z
UID:10002519-1777645800-1777654800@rafalconbury.com
SUMMARY:After School Bowling
DESCRIPTION:Come and unwind with some strikes and spares! Get ready to hit the lanes with After School Bowling. This awesome event is available for ages 18 and under\, and it’s perfect for a bit of fun after a long school day.\n\n\n\n\n\n\n\nThe event runs from September to May on weekdays between 1430 – 1700. You can grab games and shoes for just $2 each!
URL:https://rafalconbury.com/event/after-school-bowling/2026-05-01/
LOCATION:Spartan Lanes Bowling Center\, United Kingdom
CATEGORIES:Bowling Center
ATTACH;FMTTYPE=image/png:https://rafalconbury.com/wp-content/uploads/2025/09/Bowling-After-School.png
END:VEVENT
BEGIN:VEVENT
DTSTART;VALUE=DATE:20260502
DTEND;VALUE=DATE:20260503
DTSTAMP:20260421T150812
CREATED:20260402T141808Z
LAST-MODIFIED:20260409T081400Z
UID:10002901-1777680000-1777766399@rafalconbury.com
SUMMARY:Edinburgh
DESCRIPTION:MAY IS WHISKY MONTH IN EDINBURGH \nMay is the perfect time for both whisky novices and connoisseurs to jump headfirst into Edinburgh’s whisky culture and rejoice in a celebration of the “Water of Life.” The Scotch Whisky Experience and Johnnie Walker Princes Street offer a range of tasting tours to awaken your senses (pre-booking advisable). You’ll also have time to explore some of this magnificent city’s famous historic sites. Edinburgh’s for everyone! \n£139 per person Includes: Luxury coach travel\, free time to explore Edinburgh during Whisky Month
URL:https://rafalconbury.com/event/edinburgh/
CATEGORIES:ITT
ATTACH;FMTTYPE=image/jpeg:https://rafalconbury.com/wp-content/uploads/2026/04/Edinburgh-2.jpg
END:VEVENT
BEGIN:VEVENT
DTSTART;TZID=Europe/London:20260504T143000
DTEND;TZID=Europe/London:20260504T170000
DTSTAMP:20260421T150812
CREATED:20250905T082823Z
LAST-MODIFIED:20250905T090425Z
UID:10002520-1777905000-1777914000@rafalconbury.com
SUMMARY:After School Bowling
DESCRIPTION:Come and unwind with some strikes and spares! Get ready to hit the lanes with After School Bowling. This awesome event is available for ages 18 and under\, and it’s perfect for a bit of fun after a long school day.\n\n\n\n\n\n\n\nThe event runs from September to May on weekdays between 1430 – 1700. You can grab games and shoes for just $2 each!
URL:https://rafalconbury.com/event/after-school-bowling/2026-05-04/
LOCATION:Spartan Lanes Bowling Center\, United Kingdom
CATEGORIES:Bowling Center
ATTACH;FMTTYPE=image/png:https://rafalconbury.com/wp-content/uploads/2025/09/Bowling-After-School.png
END:VEVENT
BEGIN:VEVENT
DTSTART;TZID=Europe/London:20260505T083000
DTEND;TZID=Europe/London:20260505T100000
DTSTAMP:20260421T150812
CREATED:20250905T131954Z
LAST-MODIFIED:20250905T131954Z
UID:10002606-1777969800-1777975200@rafalconbury.com
SUMMARY:Toddler Tuesday
DESCRIPTION:Join us at the CAC on the first Tuesday of every month for Toddler Tuesday! Let your kids bounce around in the bouncy castles while you enjoy a delicious coffee from The Daily Grind. \nFree and open to all.* \n*Parents must supervise their children at all times.
URL:https://rafalconbury.com/event/toddler-tuesday/2026-05-05/
LOCATION:RAF Alconbury Community Center
CATEGORIES:Community Center
ATTACH;FMTTYPE=image/jpeg:https://rafalconbury.com/wp-content/uploads/2025/09/CAC-Toddler-Tuesday-scaled.jpg
END:VEVENT
BEGIN:VEVENT
DTSTART;TZID=Europe/London:20260505T143000
DTEND;TZID=Europe/London:20260505T170000
DTSTAMP:20260421T150812
CREATED:20250905T082823Z
LAST-MODIFIED:20250905T090425Z
UID:10002521-1777991400-1778000400@rafalconbury.com
SUMMARY:After School Bowling
DESCRIPTION:Come and unwind with some strikes and spares! Get ready to hit the lanes with After School Bowling. This awesome event is available for ages 18 and under\, and it’s perfect for a bit of fun after a long school day.\n\n\n\n\n\n\n\nThe event runs from September to May on weekdays between 1430 – 1700. You can grab games and shoes for just $2 each!
URL:https://rafalconbury.com/event/after-school-bowling/2026-05-05/
LOCATION:Spartan Lanes Bowling Center\, United Kingdom
CATEGORIES:Bowling Center
ATTACH;FMTTYPE=image/png:https://rafalconbury.com/wp-content/uploads/2025/09/Bowling-After-School.png
END:VEVENT
BEGIN:VEVENT
DTSTART;TZID=Europe/London:20260505T170000
DTEND;TZID=Europe/London:20260505T190000
DTSTAMP:20260421T150812
CREATED:20260108T100005Z
LAST-MODIFIED:20260108T100658Z
UID:10002743-1778000400-1778007600@rafalconbury.com
SUMMARY:Evening of Belaying
DESCRIPTION:Level up your ascent by learning the ropes—literally!—as you perfect your belaying skills and nail those crucial climbing calls\, setting you up for epic outdoor adventures with confidence and flair!  \n$5 per adult (under 18s free) \nEvent dates:\n3 February • 5 May • 18 August • 3 November \nContact Outdoor Recreation for more info:\nDSN: 268-3734 | COMM: 01480 843734
URL:https://rafalconbury.com/event/evening-of-belaying-2/
LOCATION:Outdoor Recreation
CATEGORIES:Outdoor Recreation
ATTACH;FMTTYPE=image/jpeg:https://rafalconbury.com/wp-content/uploads/2025/12/Belaying.jpg
END:VEVENT
BEGIN:VEVENT
DTSTART;TZID=Europe/London:20260506T110000
DTEND;TZID=Europe/London:20260506T170000
DTSTAMP:20260421T150812
CREATED:20250905T105416Z
LAST-MODIFIED:20250905T105416Z
UID:10002589-1778065200-1778086800@rafalconbury.com
SUMMARY:Wing Wednesday
DESCRIPTION:Pinspotter Cafe\, and we’re serving up your favorites for just $1 per wing! \nDive into a flavor adventure with options like Plain\, Bourbon\, Sweet Chili\, Buffalo\, Sriracha\, Mango Habanero\, Honey BBQ\, Teriyaki\, and Lemon Pepper. There’s a wing for every craving! \nDon’t miss out on the most delicious deal of the week! Available for dine-in or takeaway. \nCall to pre-order: DSN 268-3682 | COMM 01480 843682
URL:https://rafalconbury.com/event/wing-wednesday/2026-05-06/
LOCATION:Spartan Lanes Bowling Center\, United Kingdom
CATEGORIES:Bowling Center
ATTACH;FMTTYPE=image/jpeg:https://rafalconbury.com/wp-content/uploads/2025/09/Bowling-Wing-Wednesday.jpg
END:VEVENT
BEGIN:VEVENT
DTSTART;TZID=Europe/London:20260506T143000
DTEND;TZID=Europe/London:20260506T170000
DTSTAMP:20260421T150812
CREATED:20250905T082823Z
LAST-MODIFIED:20250905T090425Z
UID:10002522-1778077800-1778086800@rafalconbury.com
SUMMARY:After School Bowling
DESCRIPTION:Come and unwind with some strikes and spares! Get ready to hit the lanes with After School Bowling. This awesome event is available for ages 18 and under\, and it’s perfect for a bit of fun after a long school day.\n\n\n\n\n\n\n\nThe event runs from September to May on weekdays between 1430 – 1700. You can grab games and shoes for just $2 each!
URL:https://rafalconbury.com/event/after-school-bowling/2026-05-06/
LOCATION:Spartan Lanes Bowling Center\, United Kingdom
CATEGORIES:Bowling Center
ATTACH;FMTTYPE=image/png:https://rafalconbury.com/wp-content/uploads/2025/09/Bowling-After-School.png
END:VEVENT
BEGIN:VEVENT
DTSTART;TZID=Europe/London:20260507T143000
DTEND;TZID=Europe/London:20260507T170000
DTSTAMP:20260421T150812
CREATED:20250905T082823Z
LAST-MODIFIED:20250905T090425Z
UID:10002523-1778164200-1778173200@rafalconbury.com
SUMMARY:After School Bowling
DESCRIPTION:Come and unwind with some strikes and spares! Get ready to hit the lanes with After School Bowling. This awesome event is available for ages 18 and under\, and it’s perfect for a bit of fun after a long school day.\n\n\n\n\n\n\n\nThe event runs from September to May on weekdays between 1430 – 1700. You can grab games and shoes for just $2 each!
URL:https://rafalconbury.com/event/after-school-bowling/2026-05-07/
LOCATION:Spartan Lanes Bowling Center\, United Kingdom
CATEGORIES:Bowling Center
ATTACH;FMTTYPE=image/png:https://rafalconbury.com/wp-content/uploads/2025/09/Bowling-After-School.png
END:VEVENT
BEGIN:VEVENT
DTSTART;TZID=Europe/London:20260507T173000
DTEND;TZID=Europe/London:20260507T203000
DTSTAMP:20260421T150812
CREATED:20260304T123134Z
LAST-MODIFIED:20260413T113734Z
UID:10002850-1778175000-1778185800@rafalconbury.com
SUMMARY:Art on the Rocks
DESCRIPTION:Paint\, sip\, and unwind at Art on the Rocks! Enjoy expert-guided instruction as you create a stunning Eiffel Tower painting—no experience needed. All supplies included. Just bring yourself and enjoy a fun\, creative night out. \n$40 per person 13+. Under 17 must be accompanied by an adult.
URL:https://rafalconbury.com/event/art-on-the-rocks-5/
CATEGORIES:Arts and Crafts,Stukeley Inn
ATTACH;FMTTYPE=image/jpeg:https://rafalconbury.com/wp-content/uploads/2026/03/AC-Art-on-the-Rocks-May.jpg
END:VEVENT
BEGIN:VEVENT
DTSTART;TZID=Europe/London:20260508T110000
DTEND;TZID=Europe/London:20260508T180000
DTSTAMP:20260421T150812
CREATED:20250422T142137Z
LAST-MODIFIED:20250422T142137Z
UID:10002327-1778238000-1778263200@rafalconbury.com
SUMMARY:Pizza By The Slice Friday
DESCRIPTION:
URL:https://rafalconbury.com/event/pizza-by-the-slice-friday/2026-05-08/
CATEGORIES:Bowling Center
ATTACH;FMTTYPE=image/jpeg:https://rafalconbury.com/wp-content/uploads/2025/04/Bowling-Pizza-Fridays-scaled.jpg
END:VEVENT
BEGIN:VEVENT
DTSTART;TZID=Europe/London:20260508T143000
DTEND;TZID=Europe/London:20260508T170000
DTSTAMP:20260421T150812
CREATED:20250905T082823Z
LAST-MODIFIED:20250905T090425Z
UID:10002524-1778250600-1778259600@rafalconbury.com
SUMMARY:After School Bowling
DESCRIPTION:Come and unwind with some strikes and spares! Get ready to hit the lanes with After School Bowling. This awesome event is available for ages 18 and under\, and it’s perfect for a bit of fun after a long school day.\n\n\n\n\n\n\n\nThe event runs from September to May on weekdays between 1430 – 1700. You can grab games and shoes for just $2 each!
URL:https://rafalconbury.com/event/after-school-bowling/2026-05-08/
LOCATION:Spartan Lanes Bowling Center\, United Kingdom
CATEGORIES:Bowling Center
ATTACH;FMTTYPE=image/png:https://rafalconbury.com/wp-content/uploads/2025/09/Bowling-After-School.png
END:VEVENT
BEGIN:VEVENT
DTSTART;VALUE=DATE:20260509
DTEND;VALUE=DATE:20260510
DTSTAMP:20260421T150812
CREATED:20260225T092739Z
LAST-MODIFIED:20260409T094015Z
UID:10002829-1778284800-1778371199@rafalconbury.com
SUMMARY:Clay Pigeon Shooting
DESCRIPTION:Start your Saturday morning off with a BANG! Meet up with ODR at the shooting grounds in Grimsthorpe. \nExertion Level: Moderate (1 out of 4)\nAges: ages 9+ (over 49 inches tall). Under 18s must be accompanied by an adult\n$180pp includes: 1/2 day of shooting and a light breakfast. Transportation is not included with this tour. \nContact ODR at 268-3734\, or ODRMolesworth@gmail.com to book your spot.
URL:https://rafalconbury.com/event/clay-pigeon-shooting-2/
CATEGORIES:Outdoor Recreation
ATTACH;FMTTYPE=image/jpeg:https://rafalconbury.com/wp-content/uploads/2026/02/ODR-Clay-Pigeon-May.jpg
END:VEVENT
BEGIN:VEVENT
DTSTART;VALUE=DATE:20260509
DTEND;VALUE=DATE:20260510
DTSTAMP:20260421T150812
CREATED:20251219T123849Z
LAST-MODIFIED:20251219T123849Z
UID:10002719-1778284800-1778371199@rafalconbury.com
SUMMARY:Brighton Day Trip
DESCRIPTION:Enjoy a vibrant day trip to Brighton\, where classic seaside charm meets creative culture\, featuring the famous pier\, beachfront\, and unique local shops. \nAdult: £62 | Child: £57 | Infant: £20 \nIncludes transportation and free time in Brighton.
URL:https://rafalconbury.com/event/brighton-day-trip/
CATEGORIES:ITT
ATTACH;FMTTYPE=image/jpeg:https://rafalconbury.com/wp-content/uploads/2025/12/ITT-Brighton.jpg
END:VEVENT
BEGIN:VEVENT
DTSTART;VALUE=DATE:20260509
DTEND;VALUE=DATE:20260510
DTSTAMP:20260421T150812
CREATED:20260402T142312Z
LAST-MODIFIED:20260409T081854Z
UID:10002902-1778284800-1778371199@rafalconbury.com
SUMMARY:Mount Snowdon and Snowdonia
DESCRIPTION:Enjoy a full day at Snowdonia National Park with its stunning scenery\, glacier-carved valleys\, over 100 lakes\, and breathtaking Mount Snowdon. Take on the challenge of climbing the 3560ft mountain or take the train for the same amazing views in a more relaxed fashion on the oldest narrow-gauge railway in the world! A great day for all the family! \n£79 per person Includes: Luxury coach travel\, free time in Snowdonia National Park
URL:https://rafalconbury.com/event/mount-snowdon-and-snowdonia/
CATEGORIES:ITT
ATTACH;FMTTYPE=image/jpeg:https://rafalconbury.com/wp-content/uploads/2026/04/Snowdonia-1.jpg
END:VEVENT
BEGIN:VEVENT
DTSTART;TZID=Europe/London:20260511T143000
DTEND;TZID=Europe/London:20260511T170000
DTSTAMP:20260421T150812
CREATED:20250905T082823Z
LAST-MODIFIED:20250905T090425Z
UID:10002525-1778509800-1778518800@rafalconbury.com
SUMMARY:After School Bowling
DESCRIPTION:Come and unwind with some strikes and spares! Get ready to hit the lanes with After School Bowling. This awesome event is available for ages 18 and under\, and it’s perfect for a bit of fun after a long school day.\n\n\n\n\n\n\n\nThe event runs from September to May on weekdays between 1430 – 1700. You can grab games and shoes for just $2 each!
URL:https://rafalconbury.com/event/after-school-bowling/2026-05-11/
LOCATION:Spartan Lanes Bowling Center\, United Kingdom
CATEGORIES:Bowling Center
ATTACH;FMTTYPE=image/png:https://rafalconbury.com/wp-content/uploads/2025/09/Bowling-After-School.png
END:VEVENT
BEGIN:VEVENT
DTSTART;TZID=Europe/London:20260512T143000
DTEND;TZID=Europe/London:20260512T170000
DTSTAMP:20260421T150812
CREATED:20250905T082823Z
LAST-MODIFIED:20250905T090425Z
UID:10002526-1778596200-1778605200@rafalconbury.com
SUMMARY:After School Bowling
DESCRIPTION:Come and unwind with some strikes and spares! Get ready to hit the lanes with After School Bowling. This awesome event is available for ages 18 and under\, and it’s perfect for a bit of fun after a long school day.\n\n\n\n\n\n\n\nThe event runs from September to May on weekdays between 1430 – 1700. You can grab games and shoes for just $2 each!
URL:https://rafalconbury.com/event/after-school-bowling/2026-05-12/
LOCATION:Spartan Lanes Bowling Center\, United Kingdom
CATEGORIES:Bowling Center
ATTACH;FMTTYPE=image/png:https://rafalconbury.com/wp-content/uploads/2025/09/Bowling-After-School.png
END:VEVENT
BEGIN:VEVENT
DTSTART;TZID=Europe/London:20260512T170000
DTEND;TZID=Europe/London:20260512T190000
DTSTAMP:20260421T150812
CREATED:20260218T155554Z
LAST-MODIFIED:20260218T155554Z
UID:10002822-1778605200-1778612400@rafalconbury.com
SUMMARY:Archery & Axe Throwing
DESCRIPTION:Get unlimited use of our outdoor archery and axe throwing ranges for just $10 per person! Open to ages 16+.
URL:https://rafalconbury.com/event/archery-axe-throwing/
CATEGORIES:Outdoor Recreation
ATTACH;FMTTYPE=image/jpeg:https://rafalconbury.com/wp-content/uploads/2026/02/ODR-Archery-Axe-Throwing-May.jpg
END:VEVENT
BEGIN:VEVENT
DTSTART;TZID=Europe/London:20260513T110000
DTEND;TZID=Europe/London:20260513T170000
DTSTAMP:20260421T150812
CREATED:20250905T105416Z
LAST-MODIFIED:20250905T105416Z
UID:10002590-1778670000-1778691600@rafalconbury.com
SUMMARY:Wing Wednesday
DESCRIPTION:Pinspotter Cafe\, and we’re serving up your favorites for just $1 per wing! \nDive into a flavor adventure with options like Plain\, Bourbon\, Sweet Chili\, Buffalo\, Sriracha\, Mango Habanero\, Honey BBQ\, Teriyaki\, and Lemon Pepper. There’s a wing for every craving! \nDon’t miss out on the most delicious deal of the week! Available for dine-in or takeaway. \nCall to pre-order: DSN 268-3682 | COMM 01480 843682
URL:https://rafalconbury.com/event/wing-wednesday/2026-05-13/
LOCATION:Spartan Lanes Bowling Center\, United Kingdom
CATEGORIES:Bowling Center
ATTACH;FMTTYPE=image/jpeg:https://rafalconbury.com/wp-content/uploads/2025/09/Bowling-Wing-Wednesday.jpg
END:VEVENT
BEGIN:VEVENT
DTSTART;TZID=Europe/London:20260513T143000
DTEND;TZID=Europe/London:20260513T170000
DTSTAMP:20260421T150812
CREATED:20250905T082823Z
LAST-MODIFIED:20250905T090425Z
UID:10002527-1778682600-1778691600@rafalconbury.com
SUMMARY:After School Bowling
DESCRIPTION:Come and unwind with some strikes and spares! Get ready to hit the lanes with After School Bowling. This awesome event is available for ages 18 and under\, and it’s perfect for a bit of fun after a long school day.\n\n\n\n\n\n\n\nThe event runs from September to May on weekdays between 1430 – 1700. You can grab games and shoes for just $2 each!
URL:https://rafalconbury.com/event/after-school-bowling/2026-05-13/
LOCATION:Spartan Lanes Bowling Center\, United Kingdom
CATEGORIES:Bowling Center
ATTACH;FMTTYPE=image/png:https://rafalconbury.com/wp-content/uploads/2025/09/Bowling-After-School.png
END:VEVENT
BEGIN:VEVENT
DTSTART;TZID=Europe/London:20260514T143000
DTEND;TZID=Europe/London:20260514T170000
DTSTAMP:20260421T150812
CREATED:20250905T082823Z
LAST-MODIFIED:20250905T090425Z
UID:10002528-1778769000-1778778000@rafalconbury.com
SUMMARY:After School Bowling
DESCRIPTION:Come and unwind with some strikes and spares! Get ready to hit the lanes with After School Bowling. This awesome event is available for ages 18 and under\, and it’s perfect for a bit of fun after a long school day.\n\n\n\n\n\n\n\nThe event runs from September to May on weekdays between 1430 – 1700. You can grab games and shoes for just $2 each!
URL:https://rafalconbury.com/event/after-school-bowling/2026-05-14/
LOCATION:Spartan Lanes Bowling Center\, United Kingdom
CATEGORIES:Bowling Center
ATTACH;FMTTYPE=image/png:https://rafalconbury.com/wp-content/uploads/2025/09/Bowling-After-School.png
END:VEVENT
BEGIN:VEVENT
DTSTART;TZID=Europe/London:20260515T110000
DTEND;TZID=Europe/London:20260515T180000
DTSTAMP:20260421T150812
CREATED:20250422T142137Z
LAST-MODIFIED:20250422T142137Z
UID:10002328-1778842800-1778868000@rafalconbury.com
SUMMARY:Pizza By The Slice Friday
DESCRIPTION:
URL:https://rafalconbury.com/event/pizza-by-the-slice-friday/2026-05-15/
CATEGORIES:Bowling Center
ATTACH;FMTTYPE=image/jpeg:https://rafalconbury.com/wp-content/uploads/2025/04/Bowling-Pizza-Fridays-scaled.jpg
END:VEVENT
BEGIN:VEVENT
DTSTART;TZID=Europe/London:20260515T143000
DTEND;TZID=Europe/London:20260515T170000
DTSTAMP:20260421T150812
CREATED:20250905T082823Z
LAST-MODIFIED:20250905T090425Z
UID:10002529-1778855400-1778864400@rafalconbury.com
SUMMARY:After School Bowling
DESCRIPTION:Come and unwind with some strikes and spares! Get ready to hit the lanes with After School Bowling. This awesome event is available for ages 18 and under\, and it’s perfect for a bit of fun after a long school day.\n\n\n\n\n\n\n\nThe event runs from September to May on weekdays between 1430 – 1700. You can grab games and shoes for just $2 each!
URL:https://rafalconbury.com/event/after-school-bowling/2026-05-15/
LOCATION:Spartan Lanes Bowling Center\, United Kingdom
CATEGORIES:Bowling Center
ATTACH;FMTTYPE=image/png:https://rafalconbury.com/wp-content/uploads/2025/09/Bowling-After-School.png
END:VEVENT
BEGIN:VEVENT
DTSTART;VALUE=DATE:20260516
DTEND;VALUE=DATE:20260517
DTSTAMP:20260421T150812
CREATED:20260403T092637Z
LAST-MODIFIED:20260403T092637Z
UID:10002964-1778889600-1778975999@rafalconbury.com
SUMMARY:Brussels
DESCRIPTION:The vibrant capital of Belgium and home to the European Union\, you’ll find in Brussels a captivating fusion of rich history and diverse culture. Explore iconic landmarks\, culinary delights and the unique blend of tradition and modernity that defines this bustling European hub. \n£125 per person Includes: Luxury coach travel\, return ferry crossing\, free time in Brussels
URL:https://rafalconbury.com/event/brussels-2/
CATEGORIES:ITT
ATTACH;FMTTYPE=image/jpeg:https://rafalconbury.com/wp-content/uploads/2024/10/Brussels2.jpg
END:VEVENT
BEGIN:VEVENT
DTSTART;VALUE=DATE:20260516
DTEND;VALUE=DATE:20260517
DTSTAMP:20260421T150812
CREATED:20260413T082159Z
LAST-MODIFIED:20260413T082159Z
UID:10002987-1778889600-1778975999@rafalconbury.com
SUMMARY:Stonehenge and Salisbury
DESCRIPTION:Step back in time and uncover the mysteries of one of the world’s most iconic landmarks on this unforgettable day trip to Stonehenge and Salisbury. \nBegin your journey at the awe-inspiring Stonehenge\, where ancient stones rise dramatically from the landscape\, shrouded in thousands of years of history and legend. With your entry included\, you’ll have the chance to explore this UNESCO World Heritage Site at your own pace\, learn about its fascinating origins\, and experience the powerful atmosphere that has captivated visitors for centuries. \nAfter soaking in the magic of Stonehenge\, we’ll continue to the charming medieval city of Salisbury. Here\, you’ll enjoy free time to explore as you wish—wander through quaint streets\, browse independent shops\, or relax in a cosy café. Don’t miss the stunning Salisbury Cathedral\, home to the tallest spire in Britain and one of the original copies of the Magna Carta. \nWhether you’re a history enthusiast\, a curious explorer\, or simply looking for a memorable day out\, this trip offers the perfect blend of culture\, discovery\, and leisure. \nJoin us for a day filled with history\, beauty\, and unforgettable experiences!
URL:https://rafalconbury.com/event/stonehenge-and-salisbury/
CATEGORIES:ITT
ATTACH;FMTTYPE=image/jpeg:https://rafalconbury.com/wp-content/uploads/2026/04/ITT-Stonehenge-and-Salisbury.jpg
END:VEVENT
END:VCALENDAR